BEGIN:VCALENDAR
PRODID:-//PUBBLE//agenda//NL
VERSION:2.0
METHOD:PUBLISH
BEGIN:VEVENT
DTSTART:20260425T130000Z
DTEND:20260425T180000Z
DTSTAMP:20260419T130523Z
UID:e3bda22f-b0f6-4bbb-a386-9f6f7cd6f73a
CREATED:20260419T130523Z
NAME:Koningsdag -Royal Caribbean Voorne Vibes groothellevoet.nl
X-WR-CALNAME:Koningsdag -Royal Caribbean Voorne Vibes
X-ALT-DESC;FMTTYPE=text/html:<a href='/agenda/2026/4/25/koningsdag-royal-caribbean-voorne-vibes-224347'>/agenda/2026/4/25/koningsdag-royal-caribbean-voorne-vibes-224347</a> || <p>Vier Koningsdag met ons tijdens een gezellige en bruisende dag voor jong en oud!&nbsp;</p><p>Met een springkussen, leuke activiteiten en een gezellige braderie/vrijmarkt is er van alles te beleven. De eerste bezoekers worden extra verwend met gratis poffertjes en natuurlijk is er volop eten en drinken aanwezig (pinnen kan, contant is gewenst).</p><p>Entree is gratis</p><p>Geniet van de sfeer met tropische klanken van Eleganz, Nederlandse muziek en karaoke. Deze eerste Koninklijke editie krijgt een uniek Royal Caribbean tintje in Voorne aan Zee!</p><p>Iedereen is welkom – neem je buren, familie en vrienden mee en vier samen met ons de start van het koningsweekend. In samenwerking met Wijkraad De Struyten &amp; Kooistee, Buurthuis ’t Ommetje, Roshan Schaafijs, Seth poffertjeskraam, Davesound, VP verhuur, Boels, Allways Party, DJ en Eleganz.</p>
DESCRIPTION:<a href='/agenda/2026/4/25/koningsdag-royal-caribbean-voorne-vibes-224347'>/agenda/2026/4/25/koningsdag-royal-caribbean-voorne-vibes-224347</a> || <p>Vier Koningsdag met ons tijdens een gezellige en bruisende dag voor jong en oud!&nbsp;</p><p>Met een springkussen, leuke activiteiten en een gezellige braderie/vrijmarkt is er van alles te beleven. De eerste bezoekers worden extra verwend met gratis poffertjes en natuurlijk is er volop eten en drinken aanwezig (pinnen kan, contant is gewenst).</p><p>Entree is gratis</p><p>Geniet van de sfeer met tropische klanken van Eleganz, Nederlandse muziek en karaoke. Deze eerste Koninklijke editie krijgt een uniek Royal Caribbean tintje in Voorne aan Zee!</p><p>Iedereen is welkom – neem je buren, familie en vrienden mee en vier samen met ons de start van het koningsweekend. In samenwerking met Wijkraad De Struyten &amp; Kooistee, Buurthuis ’t Ommetje, Roshan Schaafijs, Seth poffertjeskraam, Davesound, VP verhuur, Boels, Allways Party, DJ en Eleganz.</p>
LAST-MODIFIED:20260419T130523Z
LOCATION: Buurthuis 't Ommetje  | Plataanlaan 2  Hellevoetsluis
SEQUENCE:0
STATUS:CONFIRMED
SUMMARY:Koningsdag -Royal Caribbean Voorne Vibes
TRANSP:OPAQUE
END:VEVENT
END:VCALENDAR
